<?xml version="1.0" encoding="utf-8"?>
<TileMap version="1.0.0" tilemapservice="http://tms.osgeo.org/1.0.0">
  <Title/>
  <SRS>EPSG:3857</SRS>
  <BoundingBox minx="12.1721305" miny="51.297802" maxx="12.3406787" maxy="51.3987007"/>
  <Origin x="12.1721305" y="51.297802"/>
  <TileFormat width="256" height="256" mime-type="image/png" extension="png"/>
  <TileSets profile="mercator">
    <TileSet href="0" units-per-pixel="156543.033928041" order="0"/>
    <TileSet href="1" units-per-pixel="78271.5169640205" order="1"/>
    <TileSet href="2" units-per-pixel="39135.7584820102" order="2"/>
    <TileSet href="3" units-per-pixel="19567.8792410051" order="3"/>
    <TileSet href="4" units-per-pixel="9783.93962050256" order="4"/>
    <TileSet href="5" units-per-pixel="4891.96981025128" order="5"/>
    <TileSet href="6" units-per-pixel="2445.98490512564" order="6"/>
    <TileSet href="7" units-per-pixel="1222.99245256282" order="7"/>
    <TileSet href="8" units-per-pixel="611.49622628141" order="8"/>
    <TileSet href="9" units-per-pixel="305.748113140705" order="9"/>
    <TileSet href="10" units-per-pixel="152.874056570353" order="10"/>
    <TileSet href="11" units-per-pixel="76.4370282851763" order="11"/>
    <TileSet href="12" units-per-pixel="38.2185141425881" order="12"/>
    <TileSet href="13" units-per-pixel="19.1092570712941" order="13"/>
    <TileSet href="14" units-per-pixel="9.55462853564703" order="14"/>
    <TileSet href="15" units-per-pixel="4.77731426782352" order="15"/>
    <TileSet href="16" units-per-pixel="2.38865713391176" order="16"/>
  </TileSets>
</TileMap>
